BEGIN:VCALENDAR
VERSION:2.0
PRODID:-//wp-events-plugin.com//7.2.3.1//EN
TZID:Europe/London
X-WR-TIMEZONE:Europe/LondonBEGIN:VCALENDAR
VERSION:2.0
PRODID:-//wp-events-plugin.com//7.2.3.1//EN
TZID:Europe/London
X-WR-TIMEZONE:Europe/LondonBEGIN:VCALENDAR
VERSION:2.0
PRODID:-//wp-events-plugin.com//7.2.3.1//EN
TZID:Europe/London
X-WR-TIMEZONE:Europe/London
BEGIN:VEVENT
UID:145@artinpoundbury.co.uk
DTSTART;TZID=Europe/London:20251122T100000
DTEND;TZID=Europe/London:20251130T160000
DTSTAMP:20251023T170845Z
URL:https://artinpoundbury.co.uk/events/winter-exhibtion-in-jubilee-hall/
SUMMARY:'Bright and Beautiful' Winter Exhibition
DESCRIPTION:Our winter exhibition Bright and Beautiful is a celebration of 
 art and community. It will showcase 140 local artists working in paint\, p
 rint\, wood\, glass\, textiles and sculpture. Hundreds of original works\,
  prints and cards will be for sale with prices starting at £3.\n\nThere w
 ill be opportunities to Meet the Artist\, hear about their work and try ac
 tivities from oil painting to textile art to calligraphy.\n\nThe Tiny Gall
 ery will be visiting from Portland\, full of tiny works of art created by 
 local professional and amateur artists. The artists behind each work will 
 only be revealed once the work has been bought. With each priced at £25 y
 ou may just bag a painting by someone well-known or an up and coming artis
 t. All profits will go to Dorset County Hospital Charity.\n\nThe centre pi
 ece of the exhibition is a community art installation - a flock of birds\,
  handmade by groups from local schools\, youth clubs\, older living commun
 ities\, businesses and the Weldmar hospice. It will soar across the exhibi
 tion hall and each bird\, created using the outline of the maker’s hand\
 , will carry a personal message of hope.\n\nAs well as being a perfect opp
 ortunity to buy some original art\, the event is raising funds for the Dor
 set County Hospital Charity and Arts in Hospital. Everyone is welcome and 
 entry is free. We look forward to seeing you there.\n\nThank you to our sp
 onsors and supporters CG Fry &amp\; Son Builders\, Morrish Homes\, Rolls L
 andscaping Services\, Art 2 Card\, Parkers Property Consultants\, Poundbur
 y Garden Centre\, Silverlake and Handelsbanken.
ATTACH;FMTTYPE=image/jpeg:https://artinpoundbury.co.uk/wp-content/uploads/
 2025/03/Copy-of-Copy-of-Judy-Master-copy-153-x-153-mm.jpg
CATEGORIES:Exhibitions
LOCATION:Jubilee Hall\, Great Cranford Street\, Poundbury\, Dorchester\, Do
 rset\, DT1 3BW\, United Kingdom
GEO:50.715628;-2.46688
X-APPLE-STRUCTURED-LOCATION;VALUE=URI;X-ADDRESS=Great Cranford Street\, Pou
 ndbury\, Dorchester\, Dorset\, DT1 3BW\, United Kingdom;X-APPLE-RADIUS=100
 ;X-TITLE=Jubilee Hall:geo:50.715628,-2.46688
END:VEVENT
BEGIN:VTIMEZONE
TZID:Europe/London
X-LIC-LOCATION:Europe/London
BEGIN:STANDARD
DTSTART:20251026T010000
TZOFFSETFROM:+0100
TZOFFSETTO:+0000
TZNAME:GMT
END:STANDARD
END:VTIMEZONE
END:VCALENDAR