BEGIN:VCALENDAR
VERSION:2.0
PRODID:-//wp-events-plugin.com//7.2.3.1//EN
TZID:Europe/London
X-WR-TIMEZONE:Europe/LondonBEGIN:VCALENDAR
VERSION:2.0
PRODID:-//wp-events-plugin.com//7.2.3.1//EN
TZID:Europe/London
X-WR-TIMEZONE:Europe/London
BEGIN:VEVENT
UID:124@artinpoundbury.co.uk
DTSTART;TZID=Europe/London:20241124T100000
DTEND;TZID=Europe/London:20241124T130000
DTSTAMP:20241116T092410Z
URL:https://artinpoundbury.co.uk/events/meet-rebecca-lardner/
SUMMARY:Meet Rebecca Lardner
DESCRIPTION:Come and meet Rebecca and hear about her successful career and 
  work practises these days.\n\nA little bit about Rebecca\n\nI was born i
 n Swanage to a gamekeeper and post mistress and spent my childhood roaming
  the glorious Dorset countryside\, happiest amongst nature or keenly obser
 ving the local people and places that have fascinated me ever since.\n\nI 
 completed an Art Foundation at Bournemouth and Poole College of Art and De
 sign and then a BA Honours Degree in Illustration at Sir John Moore’s Un
 iversity\, Liverpool and have fulfilled commissions for high profile colle
 ctors including Sir Paul McCartney's Music Academy.\n\nMy recent oil paint
 ings are influenced by the South West and its coastline depicting life by 
 the sea in my signature palette of subtle blues and greens.\n\nI was award
 ed the Fine Art Trade Guild business award in the category of Best Sellin
 g Up and Coming Artist 2008 and Best Selling British Artist 2010.\n\nI exh
 ibit in a range of top galleries across the UK and abroad where my work is
  sought after by collectors throughout Europe\, America and other reaches 
 of the world.
ATTACH;FMTTYPE=image/jpeg:https://artinpoundbury.co.uk/wp-content/uploads/
 2024/11/IMG_5107-1.jpeg
CATEGORIES:Featured,Meet the Artist
LOCATION:Jubilee Hall\, Great Cranford Street\, Poundbury\, Dorchester\, Do
 rset\, DT1 3BW\, United Kingdom
GEO:50.715628;-2.46688
X-APPLE-STRUCTURED-LOCATION;VALUE=URI;X-ADDRESS=Great Cranford Street\, Pou
 ndbury\, Dorchester\, Dorset\, DT1 3BW\, United Kingdom;X-APPLE-RADIUS=100
 ;X-TITLE=Jubilee Hall:geo:50.715628,-2.46688
END:VEVENT
BEGIN:VTIMEZONE
TZID:Europe/London
X-LIC-LOCATION:Europe/London
BEGIN:STANDARD
DTSTART:20241027T010000
TZOFFSETFROM:+0100
TZOFFSETTO:+0000
TZNAME:GMT
END:STANDARD
END:VTIMEZONE
END:VCALENDAR