BEGIN:VCALENDAR
VERSION:2.0
PRODID:-//wp-events-plugin.com//7.2.3.1//EN
TZID:Europe/London
X-WR-TIMEZONE:Europe/London
BEGIN:VEVENT
UID:132@artinpoundbury.co.uk
DTSTART;TZID=Europe/London:20241128T130000
DTEND;TZID=Europe/London:20241128T160000
DTSTAMP:20241127T183009Z
URL:https://artinpoundbury.co.uk/events/meet-charlotte-beare-her-take-on-i
 mpressionism/
SUMMARY:Meet Charlotte Beare - her take on Impressionism
DESCRIPTION:We are delighted Charlotte can join us in Jubilee Hall - she wi
 ll bee working her magic with oils\, canvas and a palette knife -we look f
 orward to it!
ATTACH;FMTTYPE=image/jpeg:https://artinpoundbury.co.uk/wp-content/uploads/
 2024/11/charlotte-beare.jpeg
LOCATION:Jubilee Hall\, Great Cranford Street\, Poundbury\, Dorchester\, Do
 rset\, DT1 3BW\, United Kingdom
GEO:50.715628;-2.46688
X-APPLE-STRUCTURED-LOCATION;VALUE=URI;X-ADDRESS=Great Cranford Street\, Pou
 ndbury\, Dorchester\, Dorset\, DT1 3BW\, United Kingdom;X-APPLE-RADIUS=100
 ;X-TITLE=Jubilee Hall:geo:50.715628,-2.46688
END:VEVENT
BEGIN:VTIMEZONE
TZID:Europe/London
X-LIC-LOCATION:Europe/London
BEGIN:STANDARD
DTSTART:20241027T010000
TZOFFSETFROM:+0100
TZOFFSETTO:+0000
TZNAME:GMT
END:STANDARD
END:VTIMEZONE
END:VCALENDAR