BEGIN:VCALENDAR
VERSION:2.0
PRODID:-//wp-events-plugin.com//7.2.3.1//EN
TZID:Europe/London
X-WR-TIMEZONE:Europe/LondonBEGIN:VCALENDAR
VERSION:2.0
PRODID:-//wp-events-plugin.com//7.2.3.1//EN
TZID:Europe/London
X-WR-TIMEZONE:Europe/London
BEGIN:VEVENT
UID:126@artinpoundbury.co.uk
DTSTART;TZID=Europe/London:20241129T130000
DTEND;TZID=Europe/London:20241129T160000
DTSTAMP:20241125T073354Z
URL:https://artinpoundbury.co.uk/events/jane-norman-and-cyanotypes/
SUMMARY:Jane Norman and Cyanotypes
DESCRIPTION:Cyanotypes - How to give an old fashioned technique a modern tw
 ist. (Cyanotypes are also known as blueprints\, or sun prints).
ATTACH;FMTTYPE=image/jpeg:https://artinpoundbury.co.uk/wp-content/uploads/
 2024/11/jane-norman-2024-1.jpg
CATEGORIES:Featured,Meet the Artist
LOCATION:Jubilee Hall\, Great Cranford Street\, Poundbury\, Dorchester\, Do
 rset\, DT1 3BW\, United Kingdom
GEO:50.715628;-2.46688
X-APPLE-STRUCTURED-LOCATION;VALUE=URI;X-ADDRESS=Great Cranford Street\, Pou
 ndbury\, Dorchester\, Dorset\, DT1 3BW\, United Kingdom;X-APPLE-RADIUS=100
 ;X-TITLE=Jubilee Hall:geo:50.715628,-2.46688
END:VEVENT
BEGIN:VTIMEZONE
TZID:Europe/London
X-LIC-LOCATION:Europe/London
BEGIN:STANDARD
DTSTART:20241027T010000
TZOFFSETFROM:+0100
TZOFFSETTO:+0000
TZNAME:GMT
END:STANDARD
END:VTIMEZONE
END:VCALENDAR