BEGIN:VCALENDAR
VERSION:2.0
PRODID:-//wp-events-plugin.com//7.2.3.1//EN
TZID:Europe/London
X-WR-TIMEZONE:Europe/LondonBEGIN:VCALENDAR
VERSION:2.0
PRODID:-//wp-events-plugin.com//7.2.3.1//EN
TZID:Europe/London
X-WR-TIMEZONE:Europe/LondonBEGIN:VCALENDAR
VERSION:2.0
PRODID:-//wp-events-plugin.com//7.2.3.1//EN
TZID:Europe/London
X-WR-TIMEZONE:Europe/London
BEGIN:VEVENT
UID:190@artinpoundbury.co.uk
DTSTART;TZID=Europe/London:20260329T100000
DTEND;TZID=Europe/London:20260329T150000
DTSTAMP:20260217T125256Z
URL:https://artinpoundbury.co.uk/events/easter-market-in-crown-square/
SUMMARY:Easter Market in Crown Square
DESCRIPTION:We are delighted to invite you to the Poundbury Easter Spring M
 arket on Sunday 29th March 2026 taking place in Crown Square.\nThe event w
 ill run from 10am until 3pm and the Easter egg hunt will start at 12noon a
 t the toy shop and we will have some special guests joining us during the 
 afternoon. You will find Art in Poundbury in our red gazebos in front of C
 rossroads cafe. We will be offering free kid's creative sessions using all
  sorts of Easter related crafting bits to create your own colourful Easter
  basket! No experience needed \, all materials supplied and smiles guarant
 eed.\n\n\n\n[gallery ids="10073\,10041\,10042\,10043\,10044\,10045\,10046\
 ,10039"]\n\n
ATTACH;FMTTYPE=image/jpeg:https://artinpoundbury.co.uk/wp-content/uploads/
 2026/02/IMG_1916.jpeg
CATEGORIES:Events,Featured
LOCATION:Crown Square\, 9 Crown Street East Crown Square \, Poundbury \, Do
 rset \, DT1 3EQ \, United Kingdom
GEO:50.717423;-2.461169
X-APPLE-STRUCTURED-LOCATION;VALUE=URI;X-ADDRESS=9 Crown Street East Crown S
 quare \, Poundbury \, Dorset \, DT1 3EQ \, United Kingdom;X-APPLE-RADIUS=1
 00;X-TITLE=Crown Square:geo:50.717423,-2.461169
END:VEVENT
BEGIN:VTIMEZONE
TZID:Europe/London
X-LIC-LOCATION:Europe/London
BEGIN:DAYLIGHT
DTSTART:20260329T020000
TZOFFSETFROM:+0000
TZOFFSETTO:+0100
TZNAME:BST
END:DAYLIGHT
END:VTIMEZONE
END:VCALENDAR