BEGIN:VCALENDAR
VERSION:2.0
PRODID:-//wp-events-plugin.com//7.2.3.1//EN
TZID:Europe/London
X-WR-TIMEZONE:Europe/LondonBEGIN:VCALENDAR
VERSION:2.0
PRODID:-//wp-events-plugin.com//7.2.3.1//EN
TZID:Europe/London
X-WR-TIMEZONE:Europe/London
BEGIN:VEVENT
UID:123@artinpoundbury.co.uk
DTSTART;TZID=Europe/London:20241126T130000
DTEND;TZID=Europe/London:20241126T160000
DTSTAMP:20241114T153431Z
URL:https://artinpoundbury.co.uk/events/clay-collage-with-julie-adlard/
SUMMARY:Clay Collage with Julie Adlard
DESCRIPTION:Clay collage with Julie Adlard\n\n\nJulie is a Dorset based pro
 fessional artist and exhibits in galleries in the South West of England. S
 he has demonstrated widely including at Art In Action and Henley Festival.
 \n\nHaving studied Combined Craft Design at South Bank University and Adva
 nced Ceramics and Painting at Kingston College Julie wanted to use both of
  these elements in her work.\n\nJulie explores surface texture and pattern
 \, working with mixed media in a unique way using air drying clay\, fabric
 s and embossing templates to create tactile collage paintings. The composi
 tions are over painted with many layers of acrylics and glazes\n\nHer insp
 iration comes from her love of  landscapes and harbours as well as places
  from her travels. Her work is bright and bold and has a naivety that make
 s you want to smile. Julie creates work that gives an emotional response t
 o a place and the harbour scenes especially create a feeling of nostalgia 
 and homecoming.\n\nJulie will bring examples of her work showing the proce
 ss from beginning to end and will be happy to chat to visitors about the c
 onstruction and application of the technique.\n\nwww.julieadlard.co.uk\n.
ATTACH;FMTTYPE=image/jpeg:https://artinpoundbury.co.uk/wp-content/uploads/
 2024/11/julie-adlard.jpg
CATEGORIES:Featured,Meet the Artist
LOCATION:Jubilee Hall\, Great Cranford Street\, Poundbury\, Dorchester\, Do
 rset\, DT1 3BW\, United Kingdom
GEO:50.715628;-2.46688
X-APPLE-STRUCTURED-LOCATION;VALUE=URI;X-ADDRESS=Great Cranford Street\, Pou
 ndbury\, Dorchester\, Dorset\, DT1 3BW\, United Kingdom;X-APPLE-RADIUS=100
 ;X-TITLE=Jubilee Hall:geo:50.715628,-2.46688
END:VEVENT
BEGIN:VTIMEZONE
TZID:Europe/London
X-LIC-LOCATION:Europe/London
BEGIN:STANDARD
DTSTART:20241027T010000
TZOFFSETFROM:+0100
TZOFFSETTO:+0000
TZNAME:GMT
END:STANDARD
END:VTIMEZONE
END:VCALENDAR