BEGIN:VCALENDAR
VERSION:2.0
PRODID:-//wp-events-plugin.com//7.2.3.1//EN
TZID:Europe/London
X-WR-TIMEZONE:Europe/LondonBEGIN:VCALENDAR
VERSION:2.0
PRODID:-//wp-events-plugin.com//7.2.3.1//EN
TZID:Europe/London
X-WR-TIMEZONE:Europe/London
BEGIN:VEVENT
UID:106@artinpoundbury.co.uk
DTSTART;TZID=Europe/London:20240825T100000
DTEND;TZID=Europe/London:20240825T160000
DTSTAMP:20240819T131331Z
URL:https://artinpoundbury.co.uk/events/art-in-the-sunflowers/
SUMMARY:Art in the Sunflowers
DESCRIPTION:Art in Poundbury is looking forward to painting in the sunflowe
 rs 🌻 this August at  the Dorset Sunflower Trail at Maiden Castle and\,
  by doing so\, being part of such an incredible initiative to raise money 
 for Dorset County Hospital Charity - specifically Dorchester County Hospit
 al's Emergency and Critical Care Appeal.\n\nIn amongst the famous Sunflowe
 r Trail🌻\, artists will be able to pick their spot  amidst the Sunflow
 ers\, or look towards unadulterated views of  Maiden Castle  in one dire
 ction and Poundbury in the other.\nRegistration Now Open - Click Here!\nTh
 ere will be three prize categories - all courtesy of Parkers Property Cons
 ultants \nExperienced artist '16 and Over' - £100 cash🌻 Highly Commen
 ded £50\nEnthusiast artist '16 and Over' - £100 cash🌻 Highly Commende
 d £50\nYoung artist category '6 to 15' - £30 Herrings Art Supply voucher
  🌻 Highly commended £20 Herrings Art Supply Voucher\nand the fantastic
  opportunity to exhibit the winning work in Dorchester County Hospital for
  all categories.\n\nSunday 25th August\nEntry and registrations from 10am.
 \nRefreshments and facilities on site.\nYour are welcome to bring a picnic
 .\n\nVenue: Maiden Castle Farm DT2 9EYSAT NAV\nPostcode: DT2 9PP\, Latitud
 e 50.702166\, Longitude -2.463648  (OS Grid Ref SY66973 89072)\nWhat3Word
 : sunflower.badminton.basher\n\nBy Bike\nThe National Cycle Network Route 
 No.2 passes next to the Dorset Sunflower Trail Field\n\nBy Foot\nThere are
  Footpaths and Bridleways around Dorchester which provide a beautiful walk
  to the Dorset Sunflower Trail\n\nBy Car\nFrom both South and North direct
 ion\, follow the A35\, take the A354 into Dorchester Town\, follow the Bro
 wn Tourist Road Signs to Maiden Castle\n\nNews of the event will be update
 d via Instagram and Facebook.\nhttps://www.facebook.com/artinpoundbury\nht
 tps://www.instagram.com/artinpoundbury\n\nPrizes sponsored by:\n\n
ATTACH;FMTTYPE=image/jpeg:https://artinpoundbury.co.uk/wp-content/uploads/
 2024/05/Aip-sunflower-logo-green-copy-3.jpg
CATEGORIES:Events
LOCATION:\, \, 
GEO:0.000000;0.000000
X-APPLE-STRUCTURED-LOCATION;VALUE=URI;X-ADDRESS=\, ;X-APPLE-RADIUS=100;X-TI
 TLE=:geo:0.000000,0.000000
END:VEVENT
BEGIN:VTIMEZONE
TZID:Europe/London
X-LIC-LOCATION:Europe/London
BEGIN:DAYLIGHT
DTSTART:20240331T020000
TZOFFSETFROM:+0000
TZOFFSETTO:+0100
TZNAME:BST
END:DAYLIGHT
END:VTIMEZONE
END:VCALENDAR