BEGIN:VCALENDAR
VERSION:2.0
PRODID:-//wp-events-plugin.com//7.2.3.1//EN
TZID:Europe/London
X-WR-TIMEZONE:Europe/LondonBEGIN:VCALENDAR
VERSION:2.0
PRODID:-//wp-events-plugin.com//7.2.3.1//EN
TZID:Europe/London
X-WR-TIMEZONE:Europe/LondonBEGIN:VCALENDAR
VERSION:2.0
PRODID:-//wp-events-plugin.com//7.2.3.1//EN
TZID:Europe/London
X-WR-TIMEZONE:Europe/London
BEGIN:VEVENT
UID:192@artinpoundbury.co.uk
DTSTART;TZID=Europe/London:20260331T090000
DTEND;TZID=Europe/London:20260630T160000
DTSTAMP:20260330T124408Z
URL:https://artinpoundbury.co.uk/events/art-at-pips-cafe-on-the-great-fiel
 d-2/
SUMMARY:Art at PiPs Cafe on the Great Field
DESCRIPTION: For the next 3 months we are delighted  to introduce the work
  of Nealey Huggett and Susan Duffey on PiPS Cafe walls . Very different st
 yles but both bringing colour and unique styles. A little more about them 
 .............\nHello\, I’m Nealey! I’m a painter and artist based in 
 Weymouth. I’m originally from London and come from a family of artists a
 nd musicians. \nI have a BA in Art &amp\; Design and a Fine Art Diploma a
 t UAL. Currently\, I am a full time parent but before my children\, I was 
 a Visual Merchandiser and Stylist for various retailers.\nSince moving dow
 n to Dorset in 2019\, with my young family\, my creative journey has led m
 e back to painting with Acrylics. \nI love depicting bright\, colourful i
 mages of animals\, nature and the inspiring Dorset landscape around me. \
 nI am a stickler for detail through my painting style\, which I believe\, 
 shows my admiration for the beauty of the image or object in view.\nI'm cu
 rrently open for commissions. Please email me at Nealey.h.art@gmail.com to
  share your commission request and learn more about my art process.\nSusan
  Duffey\nI work in a variety of media - paint\, pastel\, print\, mixed med
 ia \,felt and ceramic. I paint mainly in acrylic or pastel ad favourite su
 bjects are landscapes and flowers. I love colour and am inspired by flower
 s whether in meadows\, gardens or close up in a vase. I studied art at col
 lege and on retirement returned to art college. Since then I have attended
  many art courses to learn new approaches\, happy to experiment. Currently
  I am pursuing abstraction through online courses in paint and pastel.\n[g
 allery ids="10120\,10119\,10113\,10117\,10116\,10115\,10114\,10112\,10121\
 ,10111\,10110\,10109\,5536"]\n\n&nbsp\;\n\n&nbsp\;
ATTACH;FMTTYPE=image/jpeg:https://artinpoundbury.co.uk/wp-content/uploads/
 2026/03/SD-3.jpeg
CATEGORIES:Events,Exhibitions
LOCATION:PiPs Cafe\, The Great Field St John Way \, Poundbury Dorchester \,
  Dorset \, DT1 2FG\, United Kingdom
GEO:50.71354;-2.458091
X-APPLE-STRUCTURED-LOCATION;VALUE=URI;X-ADDRESS=The Great Field St John Way
  \, Poundbury Dorchester \, Dorset \, DT1 2FG\, United Kingdom;X-APPLE-RAD
 IUS=100;X-TITLE=PiPs Cafe:geo:50.71354,-2.458091
END:VEVENT
BEGIN:VTIMEZONE
TZID:Europe/London
X-LIC-LOCATION:Europe/London
BEGIN:DAYLIGHT
DTSTART:20260329T020000
TZOFFSETFROM:+0000
TZOFFSETTO:+0100
TZNAME:BST
END:DAYLIGHT
END:VTIMEZONE
END:VCALENDAR