BEGIN:VCALENDAR
VERSION:2.0
PRODID:-//wp-events-plugin.com//7.2.3.1//EN
TZID:Europe/London
X-WR-TIMEZONE:Europe/LondonBEGIN:VCALENDAR
VERSION:2.0
PRODID:-//wp-events-plugin.com//7.2.3.1//EN
TZID:Europe/London
X-WR-TIMEZONE:Europe/LondonBEGIN:VCALENDAR
VERSION:2.0
PRODID:-//wp-events-plugin.com//7.2.3.1//EN
TZID:Europe/London
X-WR-TIMEZONE:Europe/London
BEGIN:VEVENT
UID:193@artinpoundbury.co.uk
DTSTART;TZID=Europe/London:20260401T000000
DTEND;TZID=Europe/London:20260531T000000
DTSTAMP:20260403T093147Z
URL:https://artinpoundbury.co.uk/events/art-at-crossroads-5/
SUMMARY:Art at Crossroads
DESCRIPTION:Local art by local artists   at Crossroads Cafe until the end 
 of May.\n\nWe continue to exhibit the intriguing work of Leon Dore - 100% 
 of sales money for these paintings is going direct to Dorset County Hospit
 al and Arts in Hospital. This is amazingly generous of both Leon and Cross
 roads Cafe who are both staunch supporters of DCH.\n\nNew work by Peter Ga
 mmans has now arrived - exceptionally low prices as Peter has downsized an
 d wall space has disappeared. Again commission from these sales will go to
  DCH.\n\nLast but not least we have Poundbury stalwarts John and Jackie Wa
 lker - striking work with very sensitive use of colour palettes. Again sal
 es commission goes direct to DCH.\n\n[gallery ids="10127\,10128\,10129\,10
 130\,10131\,10132\,10133\,10134\,10135\,10136\,10126"]\n\n&nbsp\;
ATTACH;FMTTYPE=image/jpeg:https://artinpoundbury.co.uk/wp-content/uploads/
 2026/04/PG-4.jpg
CATEGORIES:Events,Exhibitions
LOCATION:Crossroads Coffee Shop\, Crown Square \, Poundbury Dorchester \, D
 orset \, DT1 3JH\, United Kingdom
GEO:50.717707;-2.460755
X-APPLE-STRUCTURED-LOCATION;VALUE=URI;X-ADDRESS=Crown Square \, Poundbury D
 orchester \, Dorset \, DT1 3JH\, United Kingdom;X-APPLE-RADIUS=100;X-TITLE
 =Crossroads Coffee Shop:geo:50.717707,-2.460755
END:VEVENT
BEGIN:VTIMEZONE
TZID:Europe/London
X-LIC-LOCATION:Europe/London
BEGIN:DAYLIGHT
DTSTART:20260329T020000
TZOFFSETFROM:+0000
TZOFFSETTO:+0100
TZNAME:BST
END:DAYLIGHT
END:VTIMEZONE
END:VCALENDAR